BEGIN:VCALENDAR
PRODID:-//www.symbio-med-pro.com //EN
VERSION:2.0
METHOD:PUBLISH
BEGIN:VEVENT
DTSTART;VALUE=DATE:20260715T100000Z
DTEND;VALUE=DATE:20260715T110000Z
SUMMARY:WEBセミナー｜SymBio Medical Profession Lecture［SYMPLE］【シンバイオ製薬株式会社】
LOCATION:
CATEGORIES:WEBセミナー
DESCRIPTION:テーマ「今後のFL治療を考える」 \n座長：魚嶋 伸彦 先生（京都第二赤十字病院 院長） \n\n演題：「濾胞性リンパ腫の治療戦略 」 \n演者：福原 規子 先生（東北大学大学院医学系研究科 血液内科学分野 准教授) \n\n視聴方法のご案内：https://www.symbio-med-pro.com/seminar/zoom_webinar/20260715.html
DTSTAMP:202607
UID:symbio-med-pro.com-260715-001
CLASS:PUBLIC
END:VEVENT
END:VCALENDAR